BEGIN:VCALENDAR
VERSION:2.0
PRODID:-//Fotoclub Bilthoven - ECPv6.15.20//NONSGML v1.0//EN
CALSCALE:GREGORIAN
METHOD:PUBLISH
X-WR-CALNAME:Fotoclub Bilthoven
X-ORIGINAL-URL:https://fotoclubbilthoven.nl
X-WR-CALDESC:Evenementen voor Fotoclub Bilthoven
REFRESH-INTERVAL;VALUE=DURATION:PT1H
X-Robots-Tag:noindex
X-PUBLISHED-TTL:PT1H
BEGIN:VTIMEZONE
TZID:Europe/Amsterdam
BEGIN:DAYLIGHT
TZOFFSETFROM:+0100
TZOFFSETTO:+0200
TZNAME:CEST
DTSTART:20250330T010000
END:DAYLIGHT
BEGIN:STANDARD
TZOFFSETFROM:+0200
TZOFFSETTO:+0100
TZNAME:CET
DTSTART:20251026T010000
END:STANDARD
BEGIN:DAYLIGHT
TZOFFSETFROM:+0100
TZOFFSETTO:+0200
TZNAME:CEST
DTSTART:20260329T010000
END:DAYLIGHT
BEGIN:STANDARD
TZOFFSETFROM:+0200
TZOFFSETTO:+0100
TZNAME:CET
DTSTART:20261025T010000
END:STANDARD
BEGIN:DAYLIGHT
TZOFFSETFROM:+0100
TZOFFSETTO:+0200
TZNAME:CEST
DTSTART:20270328T010000
END:DAYLIGHT
BEGIN:STANDARD
TZOFFSETFROM:+0200
TZOFFSETTO:+0100
TZNAME:CET
DTSTART:20271031T010000
END:STANDARD
END:VTIMEZONE
BEGIN:VEVENT
DTSTART;TZID=Europe/Amsterdam:20260508T133000
DTEND;TZID=Europe/Amsterdam:20260508T163000
DTSTAMP:20260422T223851
CREATED:20260403T130315Z
LAST-MODIFIED:20260422T115319Z
UID:10959-1778247000-1778257800@fotoclubbilthoven.nl
SUMMARY:Oefenen met je (reportage)flitser
DESCRIPTION:Voor leden die hun (reportage)flitser graag vaker of beter zouden willen inzetten hebben we een oefenmiddag gepland op vrijdag 8 mei. \nZie ook het bericht hierover.
URL:https://fotoclubbilthoven.nl/event/oefenen-met-je-reportageflitser/
CATEGORIES:Flitsen,Werkgroep
END:VEVENT
END:VCALENDAR